Workbook

Sheet 품목
A1: 재고표 · 품목 목록
A2: 노란 칸만 입력하세요. 현재고는 '입출고 기록' 시트에서 자동으로 계산돼요.
A4: 품목코드 | B4: 품목명 | C4: 단위 | D4: 기초 재고 | E4: 안전 재고 | F4: 입고 합계 | G4: 출고 합계 | H4: 현재고 | I4: 상태
A5: A001 | B5: 원두 (1kg) | C5: 봉 | D5: 10 | E5: 5 | F5: =IF(A5="","",SUMIFS(입출고!$D:$D,입출고!$B:$B,A5,입출고!$C:$C,"입고")) | G5: =IF(A5="","",SUMIFS(입출고!$D:$D,입출고!$B:$B,A5,입출고!$C:$C,"출고")) | H5: =IF(A5="","",N(D5)+F5-G5) | I5: =IF(A5="","",IF(H5<0,"확인 필요(음수)",IF(H5<=N(E5),"발주 필요","")))
A6: A002 | B6: 우유 (1L) | C6: 팩 | D6: 24 | E6: 12 | F6: =IF(A6="","",SUMIFS(입출고!$D:$D,입출고!$B:$B,A6,입출고!$C:$C,"입고")) | G6: =IF(A6="","",SUMIFS(입출고!$D:$D,입출고!$B:$B,A6,입출고!$C:$C,"출고")) | H6: =IF(A6="","",N(D6)+F6-G6) | I6: =IF(A6="","",IF(H6<0,"확인 필요(음수)",IF(H6<=N(E6),"발주 필요","")))
A7: A003 | B7: 종이컵 (12oz) | C7: 줄 | D7: 20 | E7: 8 | F7: =IF(A7="","",SUMIFS(입출고!$D:$D,입출고!$B:$B,A7,입출고!$C:$C,"입고")) | G7: =IF(A7="","",SUMIFS(입출고!$D:$D,입출고!$B:$B,A7,입출고!$C:$C,"출고")) | H7: =IF(A7="","",N(D7)+F7-G7) | I7: =IF(A7="","",IF(H7<0,"확인 필요(음수)",IF(H7<=N(E7),"발주 필요","")))
F8: =IF(A8="","",SUMIFS(입출고!$D:$D,입출고!$B:$B,A8,입출고!$C:$C,"입고")) | G8: =IF(A8="","",SUMIFS(입출고!$D:$D,입출고!$B:$B,A8,입출고!$C:$C,"출고")) | H8: =IF(A8="","",N(D8)+F8-G8) | I8: =IF(A8="","",IF(H8<0,"확인 필요(음수)",IF(H8<=N(E8),"발주 필요","")))
F9: =IF(A9="","",SUMIFS(입출고!$D:$D,입출고!$B:$B,A9,입출고!$C:$C,"입고")) | G9: =IF(A9="","",SUMIFS(입출고!$D:$D,입출고!$B:$B,A9,입출고!$C:$C,"출고")) | H9: =IF(A9="","",N(D9)+F9-G9) | I9: =IF(A9="","",IF(H9<0,"확인 필요(음수)",IF(H9<=N(E9),"발주 필요","")))
F10: =IF(A10="","",SUMIFS(입출고!$D:$D,입출고!$B:$B,A10,입출고!$C:$C,"입고")) | G10: =IF(A10="","",SUMIFS(입출고!$D:$D,입출고!$B:$B,A10,입출고!$C:$C,"출고")) | H10: =IF(A10="","",N(D10)+F10-G10) | I10: =IF(A10="","",IF(H10<0,"확인 필요(음수)",IF(H10<=N(E10),"발주 필요","")))
F11: =IF(A11="","",SUMIFS(입출고!$D:$D,입출고!$B:$B,A11,입출고!$C:$C,"입고")) | G11: =IF(A11="","",SUMIFS(입출고!$D:$D,입출고!$B:$B,A11,입출고!$C:$C,"출고")) | H11: =IF(A11="","",N(D11)+F11-G11) | I11: =IF(A11="","",IF(H11<0,"확인 필요(음수)",IF(H11<=N(E11),"발주 필요","")))
F12: =IF(A12="","",SUMIFS(입출고!$D:$D,입출고!$B:$B,A12,입출고!$C:$C,"입고")) | G12: =IF(A12="","",SUMIFS(입출고!$D:$D,입출고!$B:$B,A12,입출고!$C:$C,"출고")) | H12: =IF(A12="","",N(D12)+F12-G12) | I12: =IF(A12="","",IF(H12<0,"확인 필요(음수)",IF(H12<=N(E12),"발주 필요","")))
F13: =IF(A13="","",SUMIFS(입출고!$D:$D,입출고!$B:$B,A13,입출고!$C:$C,"입고")) | G13: =IF(A13="","",SUMIFS(입출고!$D:$D,입출고!$B:$B,A13,입출고!$C:$C,"출고")) | H13: =IF(A13="","",N(D13)+F13-G13) | I13: =IF(A13="","",IF(H13<0,"확인 필요(음수)",IF(H13<=N(E13),"발주 필요","")))
F14: =IF(A14="","",SUMIFS(입출고!$D:$D,입출고!$B:$B,A14,입출고!$C:$C,"입고")) | G14: =IF(A14="","",SUMIFS(입출고!$D:$D,입출고!$B:$B,A14,입출고!$C:$C,"출고")) | H14: =IF(A14="","",N(D14)+F14-G14) | I14: =IF(A14="","",IF(H14<0,"확인 필요(음수)",IF(H14<=N(E14),"발주 필요","")))
F15: =IF(A15="","",SUMIFS(입출고!$D:$D,입출고!$B:$B,A15,입출고!$C:$C,"입고")) | G15: =IF(A15="","",SUMIFS(입출고!$D:$D,입출고!$B:$B,A15,입출고!$C:$C,"출고")) | H15: =IF(A15="","",N(D15)+F15-G15) | I15: =IF(A15="","",IF(H15<0,"확인 필요(음수)",IF(H15<=N(E15),"발주 필요","")))
F16: =IF(A16="","",SUMIFS(입출고!$D:$D,입출고!$B:$B,A16,입출고!$C:$C,"입고")) | G16: =IF(A16="","",SUMIFS(입출고!$D:$D,입출고!$B:$B,A16,입출고!$C:$C,"출고")) | H16: =IF(A16="","",N(D16)+F16-G16) | I16: =IF(A16="","",IF(H16<0,"확인 필요(음수)",IF(H16<=N(E16),"발주 필요","")))
F17: =IF(A17="","",SUMIFS(입출고!$D:$D,입출고!$B:$B,A17,입출고!$C:$C,"입고")) | G17: =IF(A17="","",SUMIFS(입출고!$D:$D,입출고!$B:$B,A17,입출고!$C:$C,"출고")) | H17: =IF(A17="","",N(D17)+F17-G17) | I17: =IF(A17="","",IF(H17<0,"확인 필요(음수)",IF(H17<=N(E17),"발주 필요","")))
F18: =IF(A18="","",SUMIFS(입출고!$D:$D,입출고!$B:$B,A18,입출고!$C:$C,"입고")) | G18: =IF(A18="","",SUMIFS(입출고!$D:$D,입출고!$B:$B,A18,입출고!$C:$C,"출고")) | H18: =IF(A18="","",N(D18)+F18-G18) | I18: =IF(A18="","",IF(H18<0,"확인 필요(음수)",IF(H18<=N(E18),"발주 필요","")))
F19: =IF(A19="","",SUMIFS(입출고!$D:$D,입출고!$B:$B,A19,입출고!$C:$C,"입고")) | G19: =IF(A19="","",SUMIFS(입출고!$D:$D,입출고!$B:$B,A19,입출고!$C:$C,"출고")) | H19: =IF(A19="","",N(D19)+F19-G19) | I19: =IF(A19="","",IF(H19<0,"확인 필요(음수)",IF(H19<=N(E19),"발주 필요","")))
... F104: =IF(A104="","",SUMIFS(입출고!$D:$D,입출고!$B:$B,A104,입출고!$C:$C,"입고")) | G104: =IF(A104="","",SUMIFS(입출고!$D:$D,입출고!$B:$B,A104,입출고!$C:$C,"출고")) | H104: =IF(A104="","",N(D104)+F104-G104) | I104: =IF(A104="","",IF(H104<0,"확인 필요(음수)",IF(H104<=N(E104),"발주 필요","")))

Sheet 입출고
A1: 입출고 기록
A2: 한 줄에 한 건씩 적으세요. 구분은 입고 또는 출고를 고르세요.
A4: 날짜 | B4: 품목코드 | C4: 구분 | D4: 수량 | E4: 품목명(자동) | F4: 메모
A5: 46328 | B5: A001 | C5: 입고 | D5: 5 | E5: =IF(B5="","",IFERROR(INDEX(품목!$B:$B,MATCH(B5,품목!$A:$A,0)),"품목코드 없음"))
A6: 46329 | B6: A001 | C6: 출고 | D6: 9 | E6: =IF(B6="","",IFERROR(INDEX(품목!$B:$B,MATCH(B6,품목!$A:$A,0)),"품목코드 없음"))
A7: 46329 | B7: A002 | C7: 출고 | D7: 14 | E7: =IF(B7="","",IFERROR(INDEX(품목!$B:$B,MATCH(B7,품목!$A:$A,0)),"품목코드 없음"))
E8: =IF(B8="","",IFERROR(INDEX(품목!$B:$B,MATCH(B8,품목!$A:$A,0)),"품목코드 없음"))
E9: =IF(B9="","",IFERROR(INDEX(품목!$B:$B,MATCH(B9,품목!$A:$A,0)),"품목코드 없음"))
E10: =IF(B10="","",IFERROR(INDEX(품목!$B:$B,MATCH(B10,품목!$A:$A,0)),"품목코드 없음"))
E11: =IF(B11="","",IFERROR(INDEX(품목!$B:$B,MATCH(B11,품목!$A:$A,0)),"품목코드 없음"))
E12: =IF(B12="","",IFERROR(INDEX(품목!$B:$B,MATCH(B12,품목!$A:$A,0)),"품목코드 없음"))
E13: =IF(B13="","",IFERROR(INDEX(품목!$B:$B,MATCH(B13,품목!$A:$A,0)),"품목코드 없음"))
E14: =IF(B14="","",IFERROR(INDEX(품목!$B:$B,MATCH(B14,품목!$A:$A,0)),"품목코드 없음"))
E15: =IF(B15="","",IFERROR(INDEX(품목!$B:$B,MATCH(B15,품목!$A:$A,0)),"품목코드 없음"))
E16: =IF(B16="","",IFERROR(INDEX(품목!$B:$B,MATCH(B16,품목!$A:$A,0)),"품목코드 없음"))
E17: =IF(B17="","",IFERROR(INDEX(품목!$B:$B,MATCH(B17,품목!$A:$A,0)),"품목코드 없음"))
E18: =IF(B18="","",IFERROR(INDEX(품목!$B:$B,MATCH(B18,품목!$A:$A,0)),"품목코드 없음"))
E19: =IF(B19="","",IFERROR(INDEX(품목!$B:$B,MATCH(B19,품목!$A:$A,0)),"품목코드 없음"))
... E1004: =IF(B1004="","",IFERROR(INDEX(품목!$B:$B,MATCH(B1004,품목!$A:$A,0)),"품목코드 없음"))

Sheet 사용법
A1: 재고표 사용법
A3: 1. '품목' 시트에 품목코드, 품목명, 단위, 기초 재고, 안전 재고를 적어요.
A4: 2. 물건이 들어오고 나갈 때마다 '입출고' 시트에 한 줄씩 적어요.
A5: 3. '품목' 시트의 현재고와 상태가 자동으로 바뀌어요. 안전 재고 이하면 '발주 필요'로 표시돼요.
A6: 4. 현재고가 음수면 입력 실수일 가능성이 높아요. '확인 필요'로 표시돼요.
A8: 만든 곳: 쓸모노트 [사이트 주소]
